BEGIN:VCALENDAR
VERSION:2.0
PRODID:-//Children&#039;s Heart Foundation - ECPv6.11.2//NONSGML v1.0//EN
CALSCALE:GREGORIAN
METHOD:PUBLISH
X-ORIGINAL-URL:https://www.childrensheartfoundation.in
X-WR-CALDESC:Events for Children&#039;s Heart Foundation
REFRESH-INTERVAL;VALUE=DURATION:PT1H
X-Robots-Tag:noindex
X-PUBLISHED-TTL:PT1H
BEGIN:VTIMEZONE
TZID:UTC
BEGIN:STANDARD
TZOFFSETFROM:+0000
TZOFFSETTO:+0000
TZNAME:UTC
DTSTART:20230101T000000
END:STANDARD
END:VTIMEZONE
BEGIN:VEVENT
DTSTART;TZID=UTC:20240201T080000
DTEND;TZID=UTC:20240201T170000
DTSTAMP:20260421T122205
CREATED:20250228T104427Z
LAST-MODIFIED:20250228T105240Z
UID:57100-1706774400-1706806800@www.childrensheartfoundation.in
SUMMARY:Sewing machine distribution
DESCRIPTION:Donation of Lab Apparatus to Schools \n                        \n                    \n                    \n                 \n            \n          \n         \n				\n				\n				\n				\n					        \n                The future is in science. The STEM fields of study are appealing to the next generation. The students frequently select medicine and biotechnology for their higher studies. The school is where it all begins. Students who are exposed to laboratories and given guidance for various experiments are curious and occasionally even passionate about a certain area of natural science or medicine. This suggests that students should be encouraged and assisted in discovering their scientific passions\, and that they should be given the resources necessary to do so\, such as laboratory apparatus\, science-based books\, etc. The children’s heart foundation is a nonprofit organization that hopes to follow the same path. It intends to donate laboratory equipment to various schools that require it and don’t actually have the money to purchase the materials required for science experiments. By doing this\, the organization hopes to inspire students to seek careers in science and technology and to gain an understanding of more than what is covered in the classroom. Please get in touch with the Organization and offer your support if you would like to promote this excellent educational cause. Since education is the only means to success\, your contribution will absolutely be valuable.             \n        				\n				\n				\n				\n					  \n\n            \n            Donate Lab Equipments Now
URL:https://www.childrensheartfoundation.in/event/sewing-machine-distribution/
LOCATION:Jaunpur Bakarabad\, Jaunpur\, Uttar Pradesh\, India
CATEGORIES:Donation
ATTACH;FMTTYPE=image/jpeg:https://www.childrensheartfoundation.in/wp-content/uploads/2023/09/c76ba9e2-3bf4-4ff7-ab89-4eb4d94afcda.jpg
ORGANIZER;CN="Childrens Heart Foundation":MAILTO:childrensheartfoundation4@gmail.com
END:VEVENT
BEGIN:VEVENT
DTSTART;VALUE=DATE:20240126
DTEND;VALUE=DATE:20240127
DTSTAMP:20260421T122205
CREATED:20250225T082850Z
LAST-MODIFIED:20250302T063412Z
UID:56809-1706227200-1706313599@www.childrensheartfoundation.in
SUMMARY:Renovation of Zilla Parishad School
DESCRIPTION:Donation of Lab Apparatus to Schools \n                        \n                    \n                    \n                 \n            \n          \n         \n				\n				\n				\n				\n					        \n                The future is in science. The STEM fields of study are appealing to the next generation. The students frequently select medicine and biotechnology for their higher studies. The school is where it all begins. Students who are exposed to laboratories and given guidance for various experiments are curious and occasionally even passionate about a certain area of natural science or medicine. This suggests that students should be encouraged and assisted in discovering their scientific passions\, and that they should be given the resources necessary to do so\, such as laboratory apparatus\, science-based books\, etc. The children’s heart foundation is a nonprofit organization that hopes to follow the same path. It intends to donate laboratory equipment to various schools that require it and don’t actually have the money to purchase the materials required for science experiments. By doing this\, the organization hopes to inspire students to seek careers in science and technology and to gain an understanding of more than what is covered in the classroom. Please get in touch with the Organization and offer your support if you would like to promote this excellent educational cause. Since education is the only means to success\, your contribution will absolutely be valuable.             \n        				\n				\n				\n				\n					  \n\n            \n            Donate Lab Equipments Now
URL:https://www.childrensheartfoundation.in/event/renovation-of-zilla-parishad-school/
LOCATION:Zilla Parishad School\, Virar\, Maharashtra\, India
CATEGORIES:Education Event
ATTACH;FMTTYPE=image/jpeg:https://www.childrensheartfoundation.in/wp-content/uploads/2022/07/before-after2-new.jpg
ORGANIZER;CN="Childrens Heart Foundation":MAILTO:childrensheartfoundation4@gmail.com
END:VEVENT
BEGIN:VEVENT
DTSTART;TZID=UTC:20230818T080000
DTEND;TZID=UTC:20230818T170000
DTSTAMP:20260421T122205
CREATED:20250228T105134Z
LAST-MODIFIED:20250228T105701Z
UID:57107-1692345600-1692378000@www.childrensheartfoundation.in
SUMMARY:Donation of Lab Apparatus to Schools
DESCRIPTION:Donation of Lab Apparatus to Schools \n                        \n                    \n                    \n                 \n            \n          \n         \n				\n				\n				\n				\n					        \n                The future is in science. The STEM fields of study are appealing to the next generation. The students frequently select medicine and biotechnology for their higher studies. The school is where it all begins. Students who are exposed to laboratories and given guidance for various experiments are curious and occasionally even passionate about a certain area of natural science or medicine. This suggests that students should be encouraged and assisted in discovering their scientific passions\, and that they should be given the resources necessary to do so\, such as laboratory apparatus\, science-based books\, etc. The children’s heart foundation is a nonprofit organization that hopes to follow the same path. It intends to donate laboratory equipment to various schools that require it and don’t actually have the money to purchase the materials required for science experiments. By doing this\, the organization hopes to inspire students to seek careers in science and technology and to gain an understanding of more than what is covered in the classroom. Please get in touch with the Organization and offer your support if you would like to promote this excellent educational cause. Since education is the only means to success\, your contribution will absolutely be valuable.             \n        				\n				\n				\n				\n					  \n\n            \n            Donate Lab Equipments Now
URL:https://www.childrensheartfoundation.in/event/donation-of-lab-apparatus-to-schools/
LOCATION:Jivadani NGR school\, Virar\, Maharashtra\, India
CATEGORIES:Donation
ATTACH;FMTTYPE=image/jpeg:https://www.childrensheartfoundation.in/wp-content/uploads/2023/03/lab.jpg
ORGANIZER;CN="Childrens Heart Foundation":MAILTO:childrensheartfoundation4@gmail.com
END:VEVENT
BEGIN:VEVENT
DTSTART;VALUE=DATE:20230126
DTEND;VALUE=DATE:20230127
DTSTAMP:20260421T122205
CREATED:20250225T082038Z
LAST-MODIFIED:20250302T063444Z
UID:56803-1674691200-1674777599@www.childrensheartfoundation.in
SUMMARY:Build toilet units for Girls
DESCRIPTION:Donation of Lab Apparatus to Schools \n                        \n                    \n                    \n                 \n            \n          \n         \n				\n				\n				\n				\n					        \n                The future is in science. The STEM fields of study are appealing to the next generation. The students frequently select medicine and biotechnology for their higher studies. The school is where it all begins. Students who are exposed to laboratories and given guidance for various experiments are curious and occasionally even passionate about a certain area of natural science or medicine. This suggests that students should be encouraged and assisted in discovering their scientific passions\, and that they should be given the resources necessary to do so\, such as laboratory apparatus\, science-based books\, etc. The children’s heart foundation is a nonprofit organization that hopes to follow the same path. It intends to donate laboratory equipment to various schools that require it and don’t actually have the money to purchase the materials required for science experiments. By doing this\, the organization hopes to inspire students to seek careers in science and technology and to gain an understanding of more than what is covered in the classroom. Please get in touch with the Organization and offer your support if you would like to promote this excellent educational cause. Since education is the only means to success\, your contribution will absolutely be valuable.             \n        				\n				\n				\n				\n					  \n\n            \n            Donate Lab Equipments Now
URL:https://www.childrensheartfoundation.in/event/build-toilet-units-for-girls/
LOCATION:Jivadani NGR school\, Virar\, Maharashtra\, India
CATEGORIES:Donation
ATTACH;FMTTYPE=image/jpeg:https://www.childrensheartfoundation.in/wp-content/uploads/2023/02/toilet-2x.jpg
ORGANIZER;CN="Childrens Heart Foundation":MAILTO:childrensheartfoundation4@gmail.com
END:VEVENT
END:VCALENDAR